BEGIN:VCALENDAR
VERSION:2.0
PRODID:-//TSV Grötzingen 05 e.V. - ECPv4.9.14//NONSGML v1.0//EN
CALSCALE:GREGORIAN
METHOD:PUBLISH
X-WR-CALNAME:TSV Grötzingen 05 e.V.
X-ORIGINAL-URL:https://www.tsv-groetzingen05.de
X-WR-CALDESC:Veranstaltungen im TSV Grötzingen 05 e.V.
BEGIN:VTIMEZONE
TZID:Europe/Berlin
BEGIN:DAYLIGHT
TZOFFSETFROM:+0100
TZOFFSETTO:+0200
TZNAME:CEST
DTSTART:20240331T010000
END:DAYLIGHT
BEGIN:STANDARD
TZOFFSETFROM:+0200
TZOFFSETTO:+0100
TZNAME:CET
DTSTART:20241027T010000
END:STANDARD
END:VTIMEZONE
BEGIN:VEVENT
DTSTART;VALUE=DATE:20241214
DTEND;VALUE=DATE:20241215
DTSTAMP:20260423T111353
CREATED:20240211T174927Z
LAST-MODIFIED:20240211T174927Z
UID:52577-1734134400-1734220799@www.tsv-groetzingen05.de
SUMMARY:Weihnachtsbaum-Verkauf
DESCRIPTION:twittern teilen teilen e-mail 
URL:https://www.tsv-groetzingen05.de/event/weihnachtsbaum-verkauf/
CATEGORIES:Verein
END:VEVENT
END:VCALENDAR