BEGIN:VCALENDAR
VERSION:2.0
PRODID:-//TSV Grötzingen 05 e.V. - ECPv4.9.14//NONSGML v1.0//EN
CALSCALE:GREGORIAN
METHOD:PUBLISH
X-WR-CALNAME:TSV Grötzingen 05 e.V.
X-ORIGINAL-URL:https://www.tsv-groetzingen05.de
X-WR-CALDESC:Veranstaltungen im TSV Grötzingen 05 e.V.
BEGIN:VTIMEZONE
TZID:Europe/Berlin
BEGIN:DAYLIGHT
TZOFFSETFROM:+0100
TZOFFSETTO:+0200
TZNAME:CEST
DTSTART:20230326T010000
END:DAYLIGHT
BEGIN:STANDARD
TZOFFSETFROM:+0200
TZOFFSETTO:+0100
TZNAME:CET
DTSTART:20231029T010000
END:STANDARD
END:VTIMEZONE
BEGIN:VEVENT
DTSTART;TZID=Europe/Berlin:20231014T190000
DTEND;TZID=Europe/Berlin:20231015T000000
DTSTAMP:20260421T102616
CREATED:20221219T090247Z
LAST-MODIFIED:20221219T090247Z
UID:32146-1697310000-1697328000@www.tsv-groetzingen05.de
SUMMARY:Vereinsfeier
DESCRIPTION:twittern teilen teilen e-mail 
URL:https://www.tsv-groetzingen05.de/event/vereinsfeier-2/
LOCATION:TSV-Sportheim\, Raiffeisenstrasse 33\, Grötzingen\, 72631\, Deutschland
END:VEVENT
END:VCALENDAR