BEGIN:VCALENDAR
VERSION:2.0
PRODID:-//TSV Grötzingen 05 e.V. - ECPv4.9.14//NONSGML v1.0//EN
CALSCALE:GREGORIAN
METHOD:PUBLISH
X-WR-CALNAME:TSV Grötzingen 05 e.V.
X-ORIGINAL-URL:https://www.tsv-groetzingen05.de
X-WR-CALDESC:Veranstaltungen im TSV Grötzingen 05 e.V.
BEGIN:VTIMEZONE
TZID:Europe/Berlin
BEGIN:DAYLIGHT
TZOFFSETFROM:+0100
TZOFFSETTO:+0200
TZNAME:CEST
DTSTART:20240331T010000
END:DAYLIGHT
BEGIN:STANDARD
TZOFFSETFROM:+0200
TZOFFSETTO:+0100
TZNAME:CET
DTSTART:20241027T010000
END:STANDARD
END:VTIMEZONE
BEGIN:VEVENT
DTSTART;VALUE=DATE:20240509
DTEND;VALUE=DATE:20240510
DTSTAMP:20260421T090704
CREATED:20240211T174718Z
LAST-MODIFIED:20240211T174718Z
UID:52571-1715212800-1715299199@www.tsv-groetzingen05.de
SUMMARY:TSV Vatertaghocketse
DESCRIPTION:twittern teilen teilen e-mail 
URL:https://www.tsv-groetzingen05.de/event/tsv-vatertaghocketse/
LOCATION:Mehrzweckhalle Grötzingen\, Aichbachwasen 2\, Aichtal\, Baden-Württemberg\, 72631\, Deutschland
CATEGORIES:Verein
END:VEVENT
END:VCALENDAR