BEGIN:VCALENDAR
VERSION:2.0
PRODID:-//TSV Grötzingen 05 e.V. - ECPv4.9.14//NONSGML v1.0//EN
CALSCALE:GREGORIAN
METHOD:PUBLISH
X-WR-CALNAME:TSV Grötzingen 05 e.V.
X-ORIGINAL-URL:https://www.tsv-groetzingen05.de
X-WR-CALDESC:Veranstaltungen im TSV Grötzingen 05 e.V.
BEGIN:VTIMEZONE
TZID:Europe/Berlin
BEGIN:DAYLIGHT
TZOFFSETFROM:+0100
TZOFFSETTO:+0200
TZNAME:CEST
DTSTART:20230326T010000
END:DAYLIGHT
BEGIN:STANDARD
TZOFFSETFROM:+0200
TZOFFSETTO:+0100
TZNAME:CET
DTSTART:20231029T010000
END:STANDARD
END:VTIMEZONE
BEGIN:VEVENT
DTSTART;TZID=Europe/Berlin:20230212T130000
DTEND;TZID=Europe/Berlin:20230212T180000
DTSTAMP:20260425T105631
CREATED:20221219T085244Z
LAST-MODIFIED:20221219T085244Z
UID:32130-1676206800-1676224800@www.tsv-groetzingen05.de
SUMMARY:Kinderfasching
DESCRIPTION:twittern teilen teilen e-mail 
URL:https://www.tsv-groetzingen05.de/event/kinderfasching-3/
LOCATION:Mehrzweckhalle Grötzingen\, Aichbachwasen 2\, Aichtal\, Baden-Württemberg\, 72631\, Deutschland
END:VEVENT
END:VCALENDAR