BEGIN:VCALENDAR
VERSION:2.0
PRODID:-//TSV Grötzingen 05 e.V. - ECPv4.9.14//NONSGML v1.0//EN
CALSCALE:GREGORIAN
METHOD:PUBLISH
X-WR-CALNAME:TSV Grötzingen 05 e.V.
X-ORIGINAL-URL:https://www.tsv-groetzingen05.de
X-WR-CALDESC:Veranstaltungen im TSV Grötzingen 05 e.V.
BEGIN:VTIMEZONE
TZID:Europe/Berlin
BEGIN:DAYLIGHT
TZOFFSETFROM:+0100
TZOFFSETTO:+0200
TZNAME:CEST
DTSTART:20190331T010000
END:DAYLIGHT
BEGIN:STANDARD
TZOFFSETFROM:+0200
TZOFFSETTO:+0100
TZNAME:CET
DTSTART:20191027T010000
END:STANDARD
END:VTIMEZONE
BEGIN:VEVENT
DTSTART;TZID=Europe/Berlin:20190311T191500
DTEND;TZID=Europe/Berlin:20190311T200000
DTSTAMP:20260423T123055
CREATED:20190225T223440Z
LAST-MODIFIED:20190304T182230Z
UID:4222-1552331700-1552334400@www.tsv-groetzingen05.de
SUMMARY:Jugendvollversammlung
DESCRIPTION:Hallo liebe Jugendspieler\, \neure Jugendleitung lädt euch recht herzlich zu der diesjährigen Jugendvollversammlung ein.\nWann: Mo. 11.03.2019 um 19.15 Uhr\nWo: Sportheim (Besprechungsraum) \nWir bitten um zahlreiche Teilnahme\, da wir eure Stimme brauchen. Jedes Jahr muss die Jugendleitung von euch neu gewählt werden.\nAußerdem wird der Jugendsprecher gewählt. \nLiebe Grüße und bis bald\nEure Jugendleiter Simon Höhn und  Christian Schumacher \ntwittern teilen teilen e-mail 
URL:https://www.tsv-groetzingen05.de/event/jugendvollversammlung/
LOCATION:Sportplatz Grötzingen\, Raiffeisenstrass 33\, Aichtal\, Baden-Württemberg\, 72631\, Deutschland
CATEGORIES:Verein
END:VEVENT
END:VCALENDAR