BEGIN:VCALENDAR
VERSION:2.0
PRODID:-//TSV Grötzingen 05 e.V. - ECPv4.9.14//NONSGML v1.0//EN
CALSCALE:GREGORIAN
METHOD:PUBLISH
X-WR-CALNAME:TSV Grötzingen 05 e.V.
X-ORIGINAL-URL:https://www.tsv-groetzingen05.de
X-WR-CALDESC:Veranstaltungen im TSV Grötzingen 05 e.V.
BEGIN:VTIMEZONE
TZID:Europe/Berlin
BEGIN:DAYLIGHT
TZOFFSETFROM:+0100
TZOFFSETTO:+0200
TZNAME:CEST
DTSTART:20190331T010000
END:DAYLIGHT
BEGIN:STANDARD
TZOFFSETFROM:+0200
TZOFFSETTO:+0100
TZNAME:CET
DTSTART:20191027T010000
END:STANDARD
END:VTIMEZONE
BEGIN:VEVENT
DTSTART;TZID=Europe/Berlin:20190501T110000
DTEND;TZID=Europe/Berlin:20190501T110000
DTSTAMP:20260423T094219
CREATED:20190401T140226Z
LAST-MODIFIED:20190429T180739Z
UID:4564-1556708400-1556708400@www.tsv-groetzingen05.de
SUMMARY:1. Mai Hock
DESCRIPTION:Ab 15:00 Uhr mit Live-Musik!\ntwittern teilen teilen e-mail 
URL:https://www.tsv-groetzingen05.de/event/1-mai-hock/
LOCATION:Sportplatz Grötzingen\, Raiffeisenstrass 33\, Aichtal\, Baden-Württemberg\, 72631\, Deutschland
CATEGORIES:Verein
END:VEVENT
END:VCALENDAR